BEGIN:VCALENDAR
VERSION:2.0
PRODID:-//CHEF - ECPv6.15.18//NONSGML v1.0//EN
CALSCALE:GREGORIAN
METHOD:PUBLISH
X-WR-CALNAME:CHEF
X-ORIGINAL-URL:https://www.chefsa.org
X-WR-CALDESC:Events for CHEF
REFRESH-INTERVAL;VALUE=DURATION:PT1H
X-Robots-Tag:noindex
X-PUBLISHED-TTL:PT1H
BEGIN:VTIMEZONE
TZID:America/Chicago
BEGIN:DAYLIGHT
TZOFFSETFROM:-0600
TZOFFSETTO:-0500
TZNAME:CDT
DTSTART:20180311T080000
END:DAYLIGHT
BEGIN:STANDARD
TZOFFSETFROM:-0500
TZOFFSETTO:-0600
TZNAME:CST
DTSTART:20181104T070000
END:STANDARD
BEGIN:DAYLIGHT
TZOFFSETFROM:-0600
TZOFFSETTO:-0500
TZNAME:CDT
DTSTART:20190310T080000
END:DAYLIGHT
BEGIN:STANDARD
TZOFFSETFROM:-0500
TZOFFSETTO:-0600
TZNAME:CST
DTSTART:20191103T070000
END:STANDARD
BEGIN:DAYLIGHT
TZOFFSETFROM:-0600
TZOFFSETTO:-0500
TZNAME:CDT
DTSTART:20200308T080000
END:DAYLIGHT
BEGIN:STANDARD
TZOFFSETFROM:-0500
TZOFFSETTO:-0600
TZNAME:CST
DTSTART:20201101T070000
END:STANDARD
END:VTIMEZONE
BEGIN:VEVENT
DTSTART;TZID=America/Chicago:20191012T110000
DTEND;TZID=America/Chicago:20191012T140000
DTSTAMP:20260420T101511
CREATED:20190509T050000Z
LAST-MODIFIED:20191107T143509Z
UID:2819-1570878000-1570888800@www.chefsa.org
SUMMARY:CHEF Demo at Pearl Farmers Market
DESCRIPTION:Running out of meal ideas for your family? Join CHEF at Pearl Farmers Market every Saturday for healthy inspiration! We provide tasty\, simple recipes that the entire family will enjoy. The best part is that you can save yourself a trip to the grocery store since many of our ingredients can be found at the market. \nWe offer demos and samples of our CHEF-Approved recipes featuring local\, seasonal produce every 30 minutes from 10:00 a.m. – 1:00 p.m.Just look for the teal CHEF tent\, located directly behind Bakery Lorraine. \nLearn More Here
URL:https://www.chefsa.org/event/chef-demo-at-pearl-farmers-market-2-2019-11-16-2021-10-02/
LOCATION:Pearl Farmers Market\, 312 Pearl Pkwy\, San Antonio\, TX\, 78215\, United States
CATEGORIES:Cooking Demonstration,Free
ATTACH;FMTTYPE=image/jpeg:https://www.chefsa.org/wp-content/uploads/2019/05/Pearl.jpg
END:VEVENT
END:VCALENDAR