BEGIN:VCALENDAR
VERSION:2.0
PRODID:-//CHEF - ECPv6.15.18//NONSGML v1.0//EN
CALSCALE:GREGORIAN
METHOD:PUBLISH
X-WR-CALNAME:CHEF
X-ORIGINAL-URL:https://www.chefsa.org
X-WR-CALDESC:Events for CHEF
REFRESH-INTERVAL;VALUE=DURATION:PT1H
X-Robots-Tag:noindex
X-PUBLISHED-TTL:PT1H
BEGIN:VTIMEZONE
TZID:America/Chicago
BEGIN:DAYLIGHT
TZOFFSETFROM:-0600
TZOFFSETTO:-0500
TZNAME:CDT
DTSTART:20180311T080000
END:DAYLIGHT
BEGIN:STANDARD
TZOFFSETFROM:-0500
TZOFFSETTO:-0600
TZNAME:CST
DTSTART:20181104T070000
END:STANDARD
BEGIN:DAYLIGHT
TZOFFSETFROM:-0600
TZOFFSETTO:-0500
TZNAME:CDT
DTSTART:20190310T080000
END:DAYLIGHT
BEGIN:STANDARD
TZOFFSETFROM:-0500
TZOFFSETTO:-0600
TZNAME:CST
DTSTART:20191103T070000
END:STANDARD
BEGIN:DAYLIGHT
TZOFFSETFROM:-0600
TZOFFSETTO:-0500
TZNAME:CDT
DTSTART:20200308T080000
END:DAYLIGHT
BEGIN:STANDARD
TZOFFSETFROM:-0500
TZOFFSETTO:-0600
TZNAME:CST
DTSTART:20201101T070000
END:STANDARD
END:VTIMEZONE
BEGIN:VEVENT
DTSTART;TZID=America/Chicago:20191023T130000
DTEND;TZID=America/Chicago:20191023T150000
DTSTAMP:20260420T101423
CREATED:20191008T031044Z
LAST-MODIFIED:20191107T154449Z
UID:2947-1571835600-1571842800@www.chefsa.org
SUMMARY:CHEF FAMILY COOKING CLASS
DESCRIPTION:This family-friendly interactive class combines nutrition education and cooking basics using the CHEF – Culinary Health Education for Families curriculum. Participants will get to taste their work and leave with delicious\, healthy recipes in hand. Recommended for families with children ages 8 and up. Classes are offered individually or as a series. All classes run from 6:00 – 8:00 p.m. \nFee: $25.00 per adult ($22.50 SABOT members)\, $5.00 ($4.50 SABOT members) per child \nClass #1 – October 23rd (CHEF Module 1 – Cook Well. Eat Well. Live Well.)\nClass #2 – October 30th (CHEF Module 2 – Discovering Delicious Ways to Cook Vegetables)\nClass #3 – November 6th (CHEF Module 3 – Cooking with the Best Dietary Fats)\nClass #4 – November 13th (CHEF Module 4 – Power of Proteins)\nClass #5 – November 20th (CHEF Module 5 – Cooking with Whole Grains) \nLearn More Here \n 
URL:https://www.chefsa.org/event/chef-family-cooking-class/
LOCATION:San Antonio Botanical Garden\, 555 Funston Pl\, San Antonio\, TX\, 78209\, United States
ATTACH;FMTTYPE=image/png:https://www.chefsa.org/wp-content/uploads/2019/08/Image-4@2x.png
END:VEVENT
BEGIN:VEVENT
DTSTART;TZID=America/Chicago:20191023T190000
DTEND;TZID=America/Chicago:20191023T203000
DTSTAMP:20260420T101423
CREATED:20191008T030618Z
LAST-MODIFIED:20191107T145208Z
UID:2942-1571857200-1571862600@www.chefsa.org
SUMMARY:CHEF- COUPLES COOKING CLASS SERIES- WEDNESDAYS 6:00 P.M.
DESCRIPTION:CHEF is a hands-on nutrition and cooking education program dedicated to driving healthy eating habits among San Antonio children and families. This series provides engaging experiences that promote nutritious food and home cooking as key ingredients in the recipe for life long health and wellness. \nOctober 23 – November 20\, 2019\nEach Wednesday 6:00 p.m. – 7:30 p.m. \nPrice: $65 for members\, $75 for non-members \nLearn More Here \n 
URL:https://www.chefsa.org/event/chef-couples-cooking-class-series-wednesdays-600-p-m/
LOCATION:Najim YMCA\, 3122 Roosevelt Ave\, San Antonio\, TX\, 78214\, United States
CATEGORIES:Cooking Class
ATTACH;FMTTYPE=image/jpeg:https://www.chefsa.org/wp-content/uploads/2019/11/YMCALogo.jpg
END:VEVENT
END:VCALENDAR