BEGIN:VCALENDAR
VERSION:2.0
PRODID:-//CHEF - ECPv6.15.18//NONSGML v1.0//EN
CALSCALE:GREGORIAN
METHOD:PUBLISH
X-WR-CALNAME:CHEF
X-ORIGINAL-URL:https://www.chefsa.org
X-WR-CALDESC:Events for CHEF
REFRESH-INTERVAL;VALUE=DURATION:PT1H
X-Robots-Tag:noindex
X-PUBLISHED-TTL:PT1H
BEGIN:VTIMEZONE
TZID:America/Chicago
BEGIN:DAYLIGHT
TZOFFSETFROM:-0600
TZOFFSETTO:-0500
TZNAME:CDT
DTSTART:20190310T080000
END:DAYLIGHT
BEGIN:STANDARD
TZOFFSETFROM:-0500
TZOFFSETTO:-0600
TZNAME:CST
DTSTART:20191103T070000
END:STANDARD
BEGIN:DAYLIGHT
TZOFFSETFROM:-0600
TZOFFSETTO:-0500
TZNAME:CDT
DTSTART:20200308T080000
END:DAYLIGHT
BEGIN:STANDARD
TZOFFSETFROM:-0500
TZOFFSETTO:-0600
TZNAME:CST
DTSTART:20201101T070000
END:STANDARD
BEGIN:DAYLIGHT
TZOFFSETFROM:-0600
TZOFFSETTO:-0500
TZNAME:CDT
DTSTART:20210314T080000
END:DAYLIGHT
BEGIN:STANDARD
TZOFFSETFROM:-0500
TZOFFSETTO:-0600
TZNAME:CST
DTSTART:20211107T070000
END:STANDARD
END:VTIMEZONE
BEGIN:VEVENT
DTSTART;TZID=America/Chicago:20200114T110000
DTEND;TZID=America/Chicago:20200114T130000
DTSTAMP:20260425T054940
CREATED:20200106T221351Z
LAST-MODIFIED:20200106T221351Z
UID:6839-1578999600-1579006800@www.chefsa.org
SUMMARY:Adult Cooking Class (16+) - Tuesdays 11:00 a.m.
DESCRIPTION:CHEF is a hands-on nutrition and cooking education program dedicated to driving healthy eating habits among San Antonio children and families. This series provides engaging experiences that promote nutritious food and home cooking as key ingredients in the recipe for life long health and wellness. \nThis class series is for individuals ages 16+. \nJanuary 14th – February 11th\nEach Tuesday 11:00 a.m. – 1:00 p.m. \nPrice: Fee for 1 participant: $60.00\nFee for 2 participants: $75.00 \nTO REGISTER\, CALL 210.901.6622. \n 
URL:https://www.chefsa.org/event/adult-cooking-class-16-tuesdays-1100-a-m/
LOCATION:Najim YMCA\, 3122 Roosevelt Ave\, San Antonio\, TX\, 78214\, United States
CATEGORIES:Adult Cooking Class,Cooking Class,Paid
ATTACH;FMTTYPE=image/jpeg:https://www.chefsa.org/wp-content/uploads/2019/11/YMCALogo.jpg
END:VEVENT
END:VCALENDAR