BEGIN:VCALENDAR
VERSION:2.0
PRODID:-//CHEF - ECPv6.15.18//NONSGML v1.0//EN
CALSCALE:GREGORIAN
METHOD:PUBLISH
X-ORIGINAL-URL:https://www.chefsa.org
X-WR-CALDESC:Events for CHEF
REFRESH-INTERVAL;VALUE=DURATION:PT1H
X-Robots-Tag:noindex
X-PUBLISHED-TTL:PT1H
BEGIN:VTIMEZONE
TZID:America/Chicago
BEGIN:DAYLIGHT
TZOFFSETFROM:-0600
TZOFFSETTO:-0500
TZNAME:CDT
DTSTART:20190310T080000
END:DAYLIGHT
BEGIN:STANDARD
TZOFFSETFROM:-0500
TZOFFSETTO:-0600
TZNAME:CST
DTSTART:20191103T070000
END:STANDARD
BEGIN:DAYLIGHT
TZOFFSETFROM:-0600
TZOFFSETTO:-0500
TZNAME:CDT
DTSTART:20200308T080000
END:DAYLIGHT
BEGIN:STANDARD
TZOFFSETFROM:-0500
TZOFFSETTO:-0600
TZNAME:CST
DTSTART:20201101T070000
END:STANDARD
BEGIN:DAYLIGHT
TZOFFSETFROM:-0600
TZOFFSETTO:-0500
TZNAME:CDT
DTSTART:20210314T080000
END:DAYLIGHT
BEGIN:STANDARD
TZOFFSETFROM:-0500
TZOFFSETTO:-0600
TZNAME:CST
DTSTART:20211107T070000
END:STANDARD
END:VTIMEZONE
BEGIN:VEVENT
DTSTART;TZID=America/Chicago:20200227T180000
DTEND;TZID=America/Chicago:20200227T193000
DTSTAMP:20260423T053030
CREATED:20191220T172149Z
LAST-MODIFIED:20200114T180021Z
UID:6798-1582826400-1582831800@www.chefsa.org
SUMMARY:CHEF- KIDS AND FAMILY COOKING CLASS SERIES-THURSDAYS 6:00 P.M.
DESCRIPTION:CHEF is a hands-on nutrition and cooking education program dedicated to driving healthy eating habits among San Antonio children and families. This series provides engaging experiences that promote nutritious food and home cooking as key ingredients in the recipe for life long health and wellness. \nChildren as young as five may register\, but must be accompanied by an adult until age 13. \nFebruary 27th  – March 26th\nEach Thursday 6:00 p.m. – 7:30 p.m. \nPrice: $35 for 1 participant\, $15 for 2 participants \nLearn More Here
URL:https://www.chefsa.org/event/chef-kids-and-family-cooking-class-series-thursdays-600-p-m-4/
LOCATION:Mays Family YMCA at Potranco\, 8765 Texas 151 Access Rd\, San Antonio\, TX\, 78245\, United States
CATEGORIES:Cooking Class,Family Cooking Class,Family Friendly,Paid
ATTACH;FMTTYPE=image/jpeg:https://www.chefsa.org/wp-content/uploads/2019/11/YMCALogo.jpg
END:VEVENT
END:VCALENDAR